BEGIN:VCALENDAR
VERSION:2.0
PRODID:-//Summit Bound Outfitter | Somerville MA - ECPv6.15.20//NONSGML v1.0//EN
CALSCALE:GREGORIAN
METHOD:PUBLISH
X-WR-CALNAME:Summit Bound Outfitter | Somerville MA
X-ORIGINAL-URL:https://summitboundoutfitter.com
X-WR-CALDESC:Events for Summit Bound Outfitter | Somerville MA
REFRESH-INTERVAL;VALUE=DURATION:PT1H
X-Robots-Tag:noindex
X-PUBLISHED-TTL:PT1H
BEGIN:VTIMEZONE
TZID:America/New_York
BEGIN:DAYLIGHT
TZOFFSETFROM:-0500
TZOFFSETTO:-0400
TZNAME:EDT
DTSTART:20250309T070000
END:DAYLIGHT
BEGIN:STANDARD
TZOFFSETFROM:-0400
TZOFFSETTO:-0500
TZNAME:EST
DTSTART:20251102T060000
END:STANDARD
BEGIN:DAYLIGHT
TZOFFSETFROM:-0500
TZOFFSETTO:-0400
TZNAME:EDT
DTSTART:20260308T070000
END:DAYLIGHT
BEGIN:STANDARD
TZOFFSETFROM:-0400
TZOFFSETTO:-0500
TZNAME:EST
DTSTART:20261101T060000
END:STANDARD
BEGIN:DAYLIGHT
TZOFFSETFROM:-0500
TZOFFSETTO:-0400
TZNAME:EDT
DTSTART:20270314T070000
END:DAYLIGHT
BEGIN:STANDARD
TZOFFSETFROM:-0400
TZOFFSETTO:-0500
TZNAME:EST
DTSTART:20271107T060000
END:STANDARD
END:VTIMEZONE
BEGIN:VEVENT
DTSTART;TZID=America/New_York:20260507T180000
DTEND;TZID=America/New_York:20260507T200000
DTSTAMP:20260423T122006
CREATED:20260416T190309Z
LAST-MODIFIED:20260422T161102Z
UID:1830-1778176800-1778184000@summitboundoutfitter.com
SUMMARY:An Overview of Sport Anchor Building w/ Alex Texeira
DESCRIPTION:Looking to get out to your local sport crags but don’t feel confident about what to do at the top? Then this class is for you\, get a first person in depth tutorial on the do’s and don’ts of anchor building on sport climbs. The perfect class for ensuring confidence on your outdoor climbing excursions. Reserve a spot through the website link below. With Q & A for more those looking to get more in depth about anchors beyond the chains.
URL:https://summitboundoutfitter.com/event/intro-to-anchor-building-w-alex-texeira/
LOCATION:Summit Bound Outfitter\, 348 Somerville Ave\, Somerville MA 02143\, Somerville\, MA\, 02143-2918\, United States
ORGANIZER;CN="Summit Bound Outfitter":MAILTO:Colin@summitboundoutfitter.com
END:VEVENT
END:VCALENDAR